BEGIN:VCALENDAR
VERSION:2.0
PRODID:-//wp-events-plugin.com//7.2.3.1//EN
TZID:Europe/Berlin
X-WR-TIMEZONE:Europe/Berlin
BEGIN:VEVENT
UID:12@svhn1891.de
DTSTART;TZID=Europe/Berlin:20250804T100000
DTEND;TZID=Europe/Berlin:20250808T150000
DTSTAMP:20250310T124129Z
URL:https://www.svhn1891.de/events/tennis-sommerfreizeit-fuer-kids/
SUMMARY:Tennis: Sommerfreizeit für Kids
DESCRIPTION:Wir laden ein zur Sommerfreizeit für Kids vom 04.08. - 08.08.2
 025. Täglich von 10 - 15 Uhr.\n\nAnmeldung per Mail an Mathias Lang (m.la
 ng-tennis@web.de) oder telefonisch unter 0163-6317636.\n\nWir freuen uns a
 uf Eure Teilnahme!
CATEGORIES:Tennis
LOCATION:Tennisplätze Frankenbach (5 Plätze)\, Riedweg 54\, 74078 Heilbro
 nn-Frankenbach\, Deutschland
X-APPLE-STRUCTURED-LOCATION;VALUE=URI;X-ADDRESS=Riedweg 54\, 74078 Heilbron
 n-Frankenbach\, Deutschland;X-APPLE-RADIUS=100;X-TITLE=Tennisplätze Frank
 enbach (5 Plätze):geo:0,0
END:VEVENT
BEGIN:VTIMEZONE
TZID:Europe/Berlin
X-LIC-LOCATION:Europe/Berlin
BEGIN:DAYLIGHT
DTSTART:20250330T030000
TZOFFSETFROM:+0100
TZOFFSETTO:+0200
TZNAME:CEST
END:DAYLIGHT
END:VTIMEZONE
END:VCALENDAR